BEGIN:VCALENDAR
VERSION:2.0
PRODID:-//Isus misca natiuni - ECPv6.15.20//NONSGML v1.0//EN
CALSCALE:GREGORIAN
METHOD:PUBLISH
X-WR-CALNAME:Isus misca natiuni
X-ORIGINAL-URL:https://www.isusmiscanatiuni.ro/en
X-WR-CALDESC:Events for Isus misca natiuni
REFRESH-INTERVAL;VALUE=DURATION:PT1H
X-Robots-Tag:noindex
X-PUBLISHED-TTL:PT1H
BEGIN:VTIMEZONE
TZID:UTC
BEGIN:STANDARD
TZOFFSETFROM:+0000
TZOFFSETTO:+0000
TZNAME:UTC
DTSTART:20200101T000000
END:STANDARD
END:VTIMEZONE
BEGIN:VEVENT
DTSTART;VALUE=DATE:20210910
DTEND;VALUE=DATE:20260911
DTSTAMP:20260420T113210
CREATED:20230221T094239Z
LAST-MODIFIED:20251106T120321Z
UID:28181-1631232000-1789084799@www.isusmiscanatiuni.ro
SUMMARY:I. PROIECTUL „PÂINE ȘI CARTOFI PENTRU FAMILIILE NEVOIAȘE”
DESCRIPTION:Având în vedere că atât pâinea cât și cartoful reprezintă pentru unele familii principalul stimulent de hrană dorim ca prin intermediul acestei asociații să asigurăm unui număr cât mai mare de familii\, o pâine în fiecare zi pentru fiecare membru care face parte dintr-o familie cu o situație financiară precară dar și o cantitate de cartofi pentru aceștia.
URL:https://www.isusmiscanatiuni.ro/en/event/i-proiectul-paine-si-cartofi-pentru-familiile-nevoiase/
ATTACH;FMTTYPE=image/jpeg:https://www.isusmiscanatiuni.ro/wp-content/uploads/2023/02/paine-cartofi-1.jpeg
END:VEVENT
BEGIN:VEVENT
DTSTART;VALUE=DATE:20210910
DTEND;VALUE=DATE:20260911
DTSTAMP:20260420T113210
CREATED:20230224T151743Z
LAST-MODIFIED:20251106T120417Z
UID:31007-1631232000-1789084799@www.isusmiscanatiuni.ro
SUMMARY:II. PROIECTUL „PACHET DE DECEMBRIE”
DESCRIPTION:Prin intermediul acestui proiect asigurăm anual  câte un pachet cu alimentele de bază pentru ca fiecare familie să poată să pună ceva pe masa de Crăciun. De asemenea cu această ocazie pregătim pentru cât mai mulți copii pachete cu dulciuri\, îmbrăcăminte\, Încălțăminte și jucări pentru ca fiecare dintre aceștia să simtă spiritul sărbătorilor de iarnă.
URL:https://www.isusmiscanatiuni.ro/en/event/ii-proiectul-pachet-de-decembrie/
ATTACH;FMTTYPE=image/jpeg:https://www.isusmiscanatiuni.ro/wp-content/uploads/2023/02/pachet-decembrie-1.jpeg
END:VEVENT
BEGIN:VEVENT
DTSTART;VALUE=DATE:20210910
DTEND;VALUE=DATE:20260911
DTSTAMP:20260420T113210
CREATED:20240614T210512Z
LAST-MODIFIED:20251106T115408Z
UID:39572-1631232000-1789084799@www.isusmiscanatiuni.ro
SUMMARY:VII. PROIECTUL „COPII BOLNAVI/COPII CU HANDICAP”
DESCRIPTION:Avem cazuri în care durerea copiilor este atât de mare iar fiecare ajutor al oamenilor din jur este binevenit. Multe familii nu își permit să achite tratamentele necesare sau operațiile costisitoare. De aceea fiecare ajutor din partea oamenilor contează atunci când viața unui copil este pusă în pericol. Am întâlnit cazuri în care copii cu handicap locomotor nu pot să iasă în aer liber deoarece familia nu își permite să achiziționeze un cărucior cu rotile. \nDoar cu ajutorul oamenilor cu suflet putem să micșorăm din suferința și neputința acestor familii și copii.
URL:https://www.isusmiscanatiuni.ro/en/event/vii-proiectul-copii-bolnavi-copii-cu-handicap/
ATTACH;FMTTYPE=image/jpeg:https://www.isusmiscanatiuni.ro/wp-content/uploads/2024/06/WhatsApp-Image-2021-09-09-at-11.56.25-1.jpeg
END:VEVENT
BEGIN:VEVENT
DTSTART;VALUE=DATE:20210910
DTEND;VALUE=DATE:20260911
DTSTAMP:20260420T113210
CREATED:20240614T210523Z
LAST-MODIFIED:20251106T115529Z
UID:39574-1631232000-1789084799@www.isusmiscanatiuni.ro
SUMMARY:VI. PROIECTUL „TABĂRĂ DE VARĂ”
DESCRIPTION:Această asociație dorește să implice pe cât de mult se poate și pe cei mici. Astfel că pentru acesta organizăm tabere de vară\, cu ajutorul lui Dumnezeu și cu sprijinul oamenilor care iubesc copiii. Scopul acestor tabere de vară vor avea ca și scop răspândirea în rândul copiilor a cuvântului lui Dumnezeu\, un studiu biblic pe înțelesul copiilor pentru ca și aceștia să poată să cunoască calea Domnului\, să învețe lucruri elementare din viața unui om precum (igiena\, bunele maniere).
URL:https://www.isusmiscanatiuni.ro/en/event/vi-proiectul-tabara-de-vara/
ATTACH;FMTTYPE=image/jpeg:https://www.isusmiscanatiuni.ro/wp-content/uploads/2024/06/tabara-de-vara-1.jpeg
END:VEVENT
BEGIN:VEVENT
DTSTART;VALUE=DATE:20210910
DTEND;VALUE=DATE:20260911
DTSTAMP:20260420T113210
CREATED:20240614T210535Z
LAST-MODIFIED:20251106T115639Z
UID:39576-1631232000-1789084799@www.isusmiscanatiuni.ro
SUMMARY:V. PROIECTUL „AJUTOR DE LEMNE”
DESCRIPTION:Multe sunt momentele în care banii sunt insuficienți pentru a asigura cele necesare unei familii\, iar momentul cel mai dificil pentru o familie e iarna când nevoia de lemne își supune cuvântul. Prin intermediul acestui proiect ajutăm familile nevoiașe\, bătrânii și pe cei bolnavi cu lemnele necesare pentru a reuși să treacă cu bine peste anotimpul friguros.
URL:https://www.isusmiscanatiuni.ro/en/event/v-proiectul-ajutor-de-lemne/
ATTACH;FMTTYPE=image/jpeg:https://www.isusmiscanatiuni.ro/wp-content/uploads/2024/06/WhatsApp-Image-2021-09-09-at-12.07.45.jpeg
END:VEVENT
BEGIN:VEVENT
DTSTART;VALUE=DATE:20210910
DTEND;VALUE=DATE:20260911
DTSTAMP:20260420T113210
CREATED:20240614T210545Z
LAST-MODIFIED:20251106T120454Z
UID:39578-1631232000-1789084799@www.isusmiscanatiuni.ro
SUMMARY:IV. PROIECTUL „O CASĂ MAI BUNĂ”
DESCRIPTION:Acest proiect se axează pe ajutorarea famililor care trăiesc într-un mediu greu de locuit\, cu numeroși copii și care au nevoie de o mână de ajutor pe plan financiar pentru a renova spațiul în care locuiesc. \nDe asemenea avem cazuri în care văduve\, bătrâni aflați în dificultate și fără sprijin o nevoie de o renovare a locuinței. \nNe-am confruntat de-a lungul timpului cu cazuri în care spațiul de locuire nu se mai putea reface astfel a fost  nevoie de a construi o casă nouă. Iar pentru a continua acest proiect avem nevoie de orice mic ajutor din partea oamenilor.
URL:https://www.isusmiscanatiuni.ro/en/event/iv-proiectul-o-casa-mai-buna/
ATTACH;FMTTYPE=image/jpeg:https://www.isusmiscanatiuni.ro/wp-content/uploads/2024/06/WhatsApp-Image-2021-09-09-at-11.51.45-1.jpeg
END:VEVENT
BEGIN:VEVENT
DTSTART;VALUE=DATE:20210910
DTEND;VALUE=DATE:20260911
DTSTAMP:20260420T113210
CREATED:20240614T210615Z
LAST-MODIFIED:20251106T115901Z
UID:39580-1631232000-1789084799@www.isusmiscanatiuni.ro
SUMMARY:III. PROIECTUL „DĂ SPERANȚĂ”
DESCRIPTION:Este un demers prin care în jur de 100 de familii greu încercate primesc săptămânal un pachet cu alimente. Chiar dacă pentru unii a pune ceva pe masă  reprezintă o obișnință și un lucru normal pentru cei aflați în nevoie acest lucru reprezintă o binecuvântare pe care Dumnezeu o poate rândui.
URL:https://www.isusmiscanatiuni.ro/en/event/iii-proiectul-da-speranta/
ATTACH;FMTTYPE=image/jpeg:https://www.isusmiscanatiuni.ro/wp-content/uploads/2024/06/WhatsApp-Image-2021-09-09-at-12.05.02-1.jpeg
END:VEVENT
BEGIN:VEVENT
DTSTART;VALUE=DATE:20220507
DTEND;VALUE=DATE:20260508
DTSTAMP:20260420T113210
CREATED:20240614T210500Z
LAST-MODIFIED:20251106T120241Z
UID:39570-1651881600-1778198399@www.isusmiscanatiuni.ro
SUMMARY:VIII. PROIECTUL „PRO IGIENĂ”
DESCRIPTION:Pentru copii săraci \n1 PACHET = 30 RON\n Puteți contribui la igiena unui copil sărac pregătind un pachet care sa îl trimiteți la adresa asociației noastre\, cu produse cumpărate din magazine de către dumneavoastră.  Adresa asociației noastre o puteți vedea pe website \n\n\n\n 𝑹𝒆𝒄𝒐𝒎𝒂𝒏𝒅𝒂̆𝒎 𝒄𝒂 𝒑𝒂𝒄𝒉𝒆𝒕𝒖𝒍 𝒔𝒂 𝒄𝒐𝒏𝒕𝒊𝒏𝒂̆:  \n\nperiuță de dinți – 2 RON\npastă de dinți – 4 RON\ngel de duș – 8 RON\nșampon – 5 RON\nsăpun – 2 RON\nprosop – 6 RON\npungă sau plasă – 2 RON\n\n Dacă doriți puteți cumpăra produse mai scumpe \, dar mai sus am pus niște prețuri estimative modeste  și un astfel de pachet vă poate costa 30 RON . Dumnezeu să vă răsplătească!  \nCa și alternativă puteți dona  suma de 30 de RON (sau 60 RON pentru 2 copii\, sau pentru mai mulți copii ) în contul asociației noastre cu mențiunea PROIECTUL PRO IGIENĂ și ne vom ocupa noi ca astfel de pachete să ajungă la copiii săraci.
URL:https://www.isusmiscanatiuni.ro/en/event/viii-proiectul-pro-igiena/
ATTACH;FMTTYPE=image/png:https://www.isusmiscanatiuni.ro/wp-content/uploads/2024/06/pachet_mediu-1.png
END:VEVENT
END:VCALENDAR